BEGIN:VCALENDAR
VERSION:2.0
PRODID:-//Holy Rosary Cathedral Vancouver - ECPv6.3.3.1//NONSGML v1.0//EN
CALSCALE:GREGORIAN
METHOD:PUBLISH
X-WR-CALNAME:Holy Rosary Cathedral Vancouver
X-ORIGINAL-URL:https://cathedral.manumene.com
X-WR-CALDESC:Events for Holy Rosary Cathedral Vancouver
REFRESH-INTERVAL;VALUE=DURATION:PT1H
X-Robots-Tag:noindex
X-PUBLISHED-TTL:PT1H
BEGIN:VTIMEZONE
TZID:America/Toronto
BEGIN:DAYLIGHT
TZOFFSETFROM:-0500
TZOFFSETTO:-0400
TZNAME:EDT
DTSTART:20240310T070000
END:DAYLIGHT
BEGIN:STANDARD
TZOFFSETFROM:-0400
TZOFFSETTO:-0500
TZNAME:EST
DTSTART:20241103T060000
END:STANDARD
END:VTIMEZONE
BEGIN:VEVENT
DTSTART;TZID=America/Toronto:20240430T080000
DTEND;TZID=America/Toronto:20240430T170000
DTSTAMP:20260420T042218
CREATED:20240206T025338Z
LAST-MODIFIED:20240208T031249Z
UID:17888-1714464000-1714496400@cathedral.manumene.com
SUMMARY:Test Event
DESCRIPTION:Test Event content
URL:https://cathedral.manumene.com/event/test-event/
LOCATION:Holy Rosary Cathedral\, BC\, Canada
END:VEVENT
END:VCALENDAR